BEGIN:VCALENDAR
VERSION:2.0
PRODID:-//wp-events-plugin.com//7.2.3.1//EN
TZID:Europe/Paris
X-WR-TIMEZONE:Europe/Paris
BEGIN:VEVENT
UID:18@brunoangelini.com
DTSTART;TZID=Europe/Paris;VALUE=DATE:20231030
DTEND;TZID=Europe/Paris;VALUE=DATE:20231102
DTSTAMP:20230923T095952Z
URL:https://www.brunoangelini.com/agenda/chorales-residence-theatre-de-pri
 vas/
SUMMARY:"La vie ne dit pas comment" Résidence - Théâtre de Privas
DESCRIPTION:"Chorales" Résidence au théâtre de Privas\, du 31 Octobre au
  1er Novembre.
ATTACH;FMTTYPE=image/jpeg:https://www.brunoangelini.com/wp-content/uploads
 /2023/09/Laurent-Sellier©Theatre-de-Privas.jpg
CATEGORIES:Résidence
LOCATION:Théâtre de Privas\, Théâtre de Privas- BP 623 - 07006 Privas c
 edex\, Privas\, France
X-APPLE-STRUCTURED-LOCATION;VALUE=URI;X-ADDRESS=Théâtre de Privas- BP 623
  - 07006 Privas cedex\, Privas\, France;X-APPLE-RADIUS=100;X-TITLE=Théât
 re de Privas:geo:0,0
END:VEVENT
BEGIN:VTIMEZONE
TZID:Europe/Paris
X-LIC-LOCATION:Europe/Paris
BEGIN:STANDARD
DTSTART:20231029T020000
TZOFFSETFROM:+0200
TZOFFSETTO:+0100
TZNAME:CET
END:STANDARD
END:VTIMEZONE
END:VCALENDAR