BEGIN:VCALENDAR
VERSION:2.0
PRODID:-//wp-events-plugin.com//7.2.3.1//EN
TZID:Europe/Paris
X-WR-TIMEZONE:Europe/Paris
BEGIN:VEVENT
UID:20@brunoangelini.com
DTSTART;TZID=Europe/Paris;VALUE=DATE:20240108
DTEND;TZID=Europe/Paris;VALUE=DATE:20240113
DTSTAMP:20230923T081026Z
URL:https://www.brunoangelini.com/agenda/hors-temps-trio-enregistrement-mc
 a-amiens/
SUMMARY:"Hors temps" trio Enregistrement- MCA Amiens
DESCRIPTION:Deuxième disque du trio d'Edward Perraud avec Bruno Angelini e
 t Arnault Cuisinier pour Label Bleu. Enregistrement au studio Gil Evans av
 ec Mikol Seminatore.
ATTACH;FMTTYPE=image/jpeg:https://www.brunoangelini.com/wp-content/uploads
 /2021/04/Pochette-Hors-Temps-1.jpg
CATEGORIES:Enregistrement
LOCATION:studio Gil Evans\, 2 place Leon Gontier\, Amiens\, France
X-APPLE-STRUCTURED-LOCATION;VALUE=URI;X-ADDRESS=2 place Leon Gontier\, Amie
 ns\, France;X-APPLE-RADIUS=100;X-TITLE=studio Gil Evans:geo:0,0
END:VEVENT
BEGIN:VTIMEZONE
TZID:Europe/Paris
X-LIC-LOCATION:Europe/Paris
BEGIN:STANDARD
DTSTART:20231029T020000
TZOFFSETFROM:+0200
TZOFFSETTO:+0100
TZNAME:CET
END:STANDARD
END:VTIMEZONE
END:VCALENDAR