BEGIN:VCALENDAR
VERSION:2.0
PRODID:-//wp-events-plugin.com//7.2.3.1//EN
TZID:Europe/Paris
X-WR-TIMEZONE:Europe/Paris
BEGIN:VEVENT
UID:41@brunoangelini.com
DTSTART;TZID=Europe/Paris;VALUE=DATE:20250410
DTEND;TZID=Europe/Paris;VALUE=DATE:20250416
DTSTAMP:20240101T215756Z
URL:https://www.brunoangelini.com/agenda/la-vie-ne-dit-pas-comment-residen
 ce-et-creation-au-theatre-de-privas/
SUMMARY:"La vie ne dit pas comment" Résidence et création au théâtre de
  Privas
DESCRIPTION:Une création de Laurent Sellier avec quatre chorales de Privas
  et un octet.
ATTACH;FMTTYPE=image/jpeg:https://www.brunoangelini.com/wp-content/uploads
 /2023/09/Laurent-Sellier©Theatre-de-Privas.jpg
CATEGORIES:Résidence
END:VEVENT
BEGIN:VTIMEZONE
TZID:Europe/Paris
X-LIC-LOCATION:Europe/Paris
BEGIN:DAYLIGHT
DTSTART:20250330T030000
TZOFFSETFROM:+0100
TZOFFSETTO:+0200
TZNAME:CEST
END:DAYLIGHT
END:VTIMEZONE
END:VCALENDAR