BEGIN:VCALENDAR
VERSION:2.0
PRODID:-//wp-events-plugin.com//7.2.3.1//EN
TZID:Europe/Paris
X-WR-TIMEZONE:Europe/Paris
BEGIN:VEVENT
UID:106@brunoangelini.com
DTSTART;TZID=Europe/Paris:20251204T000000
DTEND;TZID=Europe/Paris:20251204T000000
DTSTAMP:20250903T140115Z
URL:https://www.brunoangelini.com/agenda/lotus-flowers-au-maerz-a-linz-aut
 riche/
SUMMARY:Lotus Flowers au Maerz à Linz (Autriche)
DESCRIPTION:
ATTACH;FMTTYPE=image/jpeg:https://www.brunoangelini.com/wp-content/uploads
 /2024/09/CDG9876-scaled.jpg
END:VEVENT
BEGIN:VTIMEZONE
TZID:Europe/Paris
X-LIC-LOCATION:Europe/Paris
BEGIN:STANDARD
DTSTART:20251026T020000
TZOFFSETFROM:+0200
TZOFFSETTO:+0100
TZNAME:CET
END:STANDARD
END:VTIMEZONE
END:VCALENDAR